BEGIN:VCALENDAR
VERSION:2.0
PRODID:-//duCret Center of Art - ECPv6.15.20//NONSGML v1.0//EN
CALSCALE:GREGORIAN
METHOD:PUBLISH
X-WR-CALNAME:duCret Center of Art
X-ORIGINAL-URL:https://ducretarts.org
X-WR-CALDESC:Events for duCret Center of Art
REFRESH-INTERVAL;VALUE=DURATION:PT1H
X-Robots-Tag:noindex
X-PUBLISHED-TTL:PT1H
BEGIN:VTIMEZONE
TZID:UTC
BEGIN:STANDARD
TZOFFSETFROM:+0000
TZOFFSETTO:+0000
TZNAME:UTC
DTSTART:20250101T000000
END:STANDARD
END:VTIMEZONE
BEGIN:VEVENT
DTSTART;TZID=UTC:20260424T200000
DTEND;TZID=UTC:20260426T170000
DTSTAMP:20260424T015547
CREATED:20260418T204710Z
LAST-MODIFIED:20260420T140500Z
UID:8839-1777060800-1777222800@ducretarts.org
SUMMARY:NJ One Act Play Festival - Matters of the Heart
DESCRIPTION:Dragonfly Multicultural Art Center presents the 2026 NJ One Act Festival: Matter of the Heart\, an evening of original short plays by New Jersey playwrights that dig into love\, loss\, and everything in between. With a mix of fresh voices and seasoned artists\, each piece offers a different\, deeply human perspective on what it means to care\, connect\, and keep going. Matter of the Heart is intimate\, honest storytelling designed to stay with you long after the lights go down. \nApril 24th and 25th at 8 pm \nApril 26th at 3 pm \n\n\n\n\n\n\n\n			\n				Tickets
URL:https://ducretarts.org/event/nj-one-act-play-festival-matters-of-the-heart/
LOCATION:duCret Center of Art\, 1030 Central Avenue\, Plainfield\, NJ\, 07060\, United States
CATEGORIES:Show
ATTACH;FMTTYPE=image/png:https://ducretarts.org/wp-content/uploads/2026/04/One-Act-Matters-of-theHeart.png
END:VEVENT
END:VCALENDAR