BEGIN:VCALENDAR
VERSION:2.0
PRODID:-//duCret Center of Art - ECPv6.15.20//NONSGML v1.0//EN
CALSCALE:GREGORIAN
METHOD:PUBLISH
X-WR-CALNAME:duCret Center of Art
X-ORIGINAL-URL:https://ducretarts.org
X-WR-CALDESC:Events for duCret Center of Art
REFRESH-INTERVAL;VALUE=DURATION:PT1H
X-Robots-Tag:noindex
X-PUBLISHED-TTL:PT1H
BEGIN:VTIMEZONE
TZID:UTC
BEGIN:STANDARD
TZOFFSETFROM:+0000
TZOFFSETTO:+0000
TZNAME:UTC
DTSTART:20250101T000000
END:STANDARD
END:VTIMEZONE
BEGIN:VEVENT
DTSTART;TZID=UTC:20260423T190000
DTEND;TZID=UTC:20260423T210000
DTSTAMP:20260423T212339
CREATED:20260414T130930Z
LAST-MODIFIED:20260414T131126Z
UID:8829-1776970800-1776978000@ducretarts.org
SUMMARY:Field Poetry Reading Series - April 23rd
DESCRIPTION:Join us at the duCret Center of Art for an evening of powerful poetry at The Fields Poetry Reading Series. This special event features acclaimed poets James Hoch and Jen DeGregorio\, who will share selections from their celebrated work in an intimate and engaging setting.\nThis is a free event\, open to the public\, and a great opportunity to experience contemporary poetry up close while connecting with fellow lovers of the arts.\nThe evening will also include an open mic session\, inviting audience members to step up and share their own poetry or creative writing. Whether you’re an experienced writer or just want to listen and be inspired\, all are welcome.\nCome for the featured readings\, stay for the community\, and maybe even take the mic yourself.
URL:https://ducretarts.org/event/field-poetry-reading-series-april-23rd/
LOCATION:duCret Center of Art\, 1030 Central Avenue\, Plainfield\, NJ\, 07060\, United States
CATEGORIES:Show
ATTACH;FMTTYPE=image/png:https://ducretarts.org/wp-content/uploads/2026/01/Field-4.23.png
END:VEVENT
BEGIN:VEVENT
DTSTART;TZID=UTC:20260424T200000
DTEND;TZID=UTC:20260426T170000
DTSTAMP:20260423T212339
CREATED:20260418T204710Z
LAST-MODIFIED:20260420T140500Z
UID:8839-1777060800-1777222800@ducretarts.org
SUMMARY:NJ One Act Play Festival - Matters of the Heart
DESCRIPTION:Dragonfly Multicultural Art Center presents the 2026 NJ One Act Festival: Matter of the Heart\, an evening of original short plays by New Jersey playwrights that dig into love\, loss\, and everything in between. With a mix of fresh voices and seasoned artists\, each piece offers a different\, deeply human perspective on what it means to care\, connect\, and keep going. Matter of the Heart is intimate\, honest storytelling designed to stay with you long after the lights go down. \nApril 24th and 25th at 8 pm \nApril 26th at 3 pm \n\n\n\n\n\n\n\n			\n				Tickets
URL:https://ducretarts.org/event/nj-one-act-play-festival-matters-of-the-heart/
LOCATION:duCret Center of Art\, 1030 Central Avenue\, Plainfield\, NJ\, 07060\, United States
CATEGORIES:Show
ATTACH;FMTTYPE=image/png:https://ducretarts.org/wp-content/uploads/2026/04/One-Act-Matters-of-theHeart.png
END:VEVENT
BEGIN:VEVENT
DTSTART;TZID=UTC:20260425T090000
DTEND;TZID=UTC:20260425T123000
DTSTAMP:20260423T212339
CREATED:20260115T162115Z
LAST-MODIFIED:20260115T162115Z
UID:8239-1777107600-1777120200@ducretarts.org
SUMMARY:Stained Glass Workshop - Tulip
DESCRIPTION:Stained Glass Workshop – One Day Only!\nDiscover the art of stained glass in this hands-on\, one-day workshop! In just 3.5 hours\, you’ll learn the basics of cutting\, foiling\, and soldering glass as you create your very own colorful stained glass piece to take home. Perfect for beginners\, this workshop includes all tools and materials—just bring your creativity! \nNo experience necessary. All supplies included. Leave with a finished stained glass project!
URL:https://ducretarts.org/event/stained-glass-workshop-tulip-2/
LOCATION:duCret Center of Art\, 1030 Central Avenue\, Plainfield\, NJ\, 07060\, United States
CATEGORIES:Art
ATTACH;FMTTYPE=image/jpeg:https://ducretarts.org/wp-content/uploads/2026/01/Tulip-2.jpg
ORGANIZER;CN="duCret Center of Art":MAILTO:info@ducret.edu
END:VEVENT
END:VCALENDAR